BEGIN:VCALENDAR
VERSION:2.0
PRODID:-//ChamberMaster//Event Calendar 2.0//EN
METHOD:PUBLISH
X-PUBLISHED-TTL:P3D
REFRESH-INTERVAL:P3D
CALSCALE:GREGORIAN
BEGIN:VEVENT
DTSTART;VALUE=DATE:20190928
DTEND;VALUE=DATE:20190929
TRANSP:TRANSPARENT
X-MICROSOFT-CDO-ALLDAYEVENT:TRUE
SUMMARY:Acadia Night Sky Festival
DESCRIPTION:Join us for one of the premier night sky events on the eastern seaboard. The 11th Annual Acadia Night Sky Festival is set for September 25-29\, 2019\, and will once again be packed with a full schedule of events. With workshops\, internationally recognized speakers and hands-on experiences\, there truly is something for everyone from families to the serious amateur astronomer.\n\n\n\nHelp us celebrate the starlit skies of Downeast Maine through education\, science\, and the arts.\n\n\n\nMaine?s spectacular rocky coast is home to Acadia National Park\, and some of the last pristine\, star-filled night skies in the eastern United States. Here\, the Milky Way shines bright in the largest expanse of naturally dark sky east of the Mississippi River.\n\n\n\nWith the rapid loss of dark skies to light pollution receiving national attention\, Maine is increasingly being referred to as one place ?that still has stars.? We invite you to discover Downeast Maine?s unique commitment to protecting the quality of its starlit nights at this annual celebration.
X-ALT-DESC;FMTTYPE=text/html:Join us for one of the premier night sky events on the eastern seaboard. The 11th Annual Acadia Night Sky Festival is set for September 25-29\, 2019\, and will once again be packed with a full schedule of events. With workshops\, internationally recognized speakers and hands-on experiences\, there truly is something for everyone from families to the serious amateur astronomer.<br>\n<br>\nHelp us celebrate the starlit skies of Downeast Maine through education\, science\, and the arts.<br>\n<br>\nMaine?s spectacular rocky coast is home to Acadia National Park\, and some of the last pristine\, star-filled night skies in the eastern United States. Here\, the Milky Way shines bright in the largest expanse of naturally dark sky east of the Mississippi River.<br>\n<br>\nWith the rapid loss of dark skies to light pollution receiving national attention\, Maine is increasingly being referred to as one place ?that still has stars.? We invite you to discover Downeast Maine?s unique commitment to protecting the quality of its starlit nights at this annual celebration.
LOCATION:Throughout Acadia National Park\, Bar Harbor\, Mount Desert Island\, the Schoodic Peninsula\, and beyond.
UID:e.3061.8957
SEQUENCE:3
DTSTAMP:20260419T231427Z
URL:https://www.visitbarharbor.com/events/details/acadia-night-sky-festival-09-28-2019-8957
END:VEVENT

END:VCALENDAR
