BEGIN:VCALENDAR
VERSION:2.0
PRODID:-//ChamberMaster//Event Calendar 2.0//EN
METHOD:PUBLISH
X-PUBLISHED-TTL:P3D
REFRESH-INTERVAL:P3D
CALSCALE:GREGORIAN
BEGIN:VEVENT
DTSTART:20190824T120000Z
DTEND:20190824T140000Z
X-MICROSOFT-CDO-ALLDAYEVENT:FALSE
SUMMARY:Acadia Mindfulness Adventures
DESCRIPTION:Starting in the ArtWaves Dance Studio with a half hour orientation/agenda review & then head off into nature where they will be guided through Mindfulness activities.
X-ALT-DESC;FMTTYPE=text/html:Starting in the ArtWaves Dance Studio with a half hour orientation/agenda review &amp\; then head off into nature where they will be guided through Mindfulness activities.
LOCATION:ArtWaves\, 1345-A State Highway 102\, Bar Harbor.
UID:e.3061.14414
SEQUENCE:3
DTSTAMP:20260419T192343Z
URL:https://www.visitbarharbor.com/events/details/acadia-mindfulness-adventures-08-24-2019-14414
END:VEVENT

END:VCALENDAR
