BEGIN:VCALENDAR
VERSION:2.0
PRODID:-//ChamberMaster//Event Calendar 2.0//EN
METHOD:PUBLISH
X-PUBLISHED-TTL:P3D
REFRESH-INTERVAL:P3D
CALSCALE:GREGORIAN
BEGIN:VEVENT
DTSTART:20210730T230000Z
DTEND:20210801T010000Z
X-MICROSOFT-CDO-ALLDAYEVENT:FALSE
SUMMARY:Acadia Dance Festival
DESCRIPTION:The Acadia Dance Festival is a community-centered celebration of contemporary dance on Mount Desert Island. The 2021 festival features a dance film screening from a national lineup of dancers\, choreographers and filmmakers\, showing at the 1932 Criterion Theatre on July 30th. Masterclasses for dancers ages 12+ will also be offered onstage at the Criterion Theatre on July 30th. Lompoc Cafe and Books will host an Artist Talk with festival artists on July 31st at 6pm. Dinner and drinks available for purchase.
X-ALT-DESC;FMTTYPE=text/html:The Acadia Dance Festival is a community-centered celebration of contemporary dance on Mount Desert Island. The 2021 festival features a dance film screening from a national lineup of dancers\, choreographers and filmmakers\, showing at the 1932 Criterion Theatre on July 30th. Masterclasses for dancers ages 12+ will also be offered onstage at the Criterion Theatre on July 30th. Lompoc Cafe and Books will host an Artist Talk with festival artists on July 31st at 6pm. Dinner and drinks available for purchase.
LOCATION:1932 Criterion Theatre (35 Cottage Street\, Bar Harbor\, ME)
UID:e.3061.37543
SEQUENCE:3
DTSTAMP:20260421T042756Z
URL:https://www.visitbarharbor.com/events/details/acadia-dance-festival-37543
END:VEVENT

END:VCALENDAR
