BEGIN:VCALENDAR
VERSION:2.0
PRODID:-//ChamberMaster//Event Calendar 2.0//EN
METHOD:PUBLISH
X-PUBLISHED-TTL:P3D
REFRESH-INTERVAL:P3D
CALSCALE:GREGORIAN
BEGIN:VEVENT
DTSTART:20190831T220000Z
DTEND:20190901T003000Z
X-MICROSOFT-CDO-ALLDAYEVENT:FALSE
SUMMARY:Acadia in Glass Mosaic with Botanical Prints
DESCRIPTION:Try something new!\nUsing our samples as inspiration\, let's combine two of our favorites -stained glass and our gelli prints with native botanicals.  Frame them with mirror\, put the printed specimens under glass\, or use our mosaic on a frame to match. All sorts of possibilities to explore. You will come out with unique art for your wall or window and a series of mono printed prints for cards or future projects. 21 and up to sip. All supplies are provided\, including wine and tea.
X-ALT-DESC;FMTTYPE=text/html:<pre>\nTry something new!\nUsing our samples as inspiration\, let&rsquo\;s combine two of our favorites -stained glass and our gelli prints with native botanicals.  Frame them with mirror\, put the printed specimens under glass\, or use our mosaic on a frame to match. All sorts of possibilities to explore. You will come out with unique art for your wall or window and a series of mono printed prints for cards or future projects. 21 and up to sip. All supplies are provided\, including wine and tea.</pre>\n
LOCATION:ArtWaves 1345-A State Highway 102 Village of Town Hill Bar Harbor\, ME 04609
UID:e.3061.2965
SEQUENCE:3
DTSTAMP:20260419T192512Z
URL:https://www.visitbarharbor.com/events/details/abstracting-acadia-in-glass-mosaic-2965
END:VEVENT

END:VCALENDAR
