BEGIN:VCALENDAR
VERSION:2.0
PRODID:-//ChamberMaster//Event Calendar 2.0//EN
METHOD:PUBLISH
X-PUBLISHED-TTL:P3D
REFRESH-INTERVAL:P3D
CALSCALE:GREGORIAN
BEGIN:VEVENT
DTSTART:20180820T120000Z
DTEND:20180820T190000Z
X-MICROSOFT-CDO-ALLDAYEVENT:FALSE
SUMMARY:Abbe Museum Summer Camp
DESCRIPTION:The Abbe Museum is excited to announce the Abbe Museum Summer Camp\, a children's day camp where highly-experienced museum staff and Wabanaki educators will oversee outdoor activities and educational opportunities for children ages 7-12. Scheduled for August 20-24\, 2018\, from 8 am   3 pm\, each day will be thematic with other camp activities mixed in to keep children active and engaged. \n \n\n\nThroughout the week\, segments will be dedicated to the pursuit of 12\,000 years of history and culture in the Wabanaki homeland\, allowing campers to work with the Museum's educational collection as well as go on scavenger hunts and respond to art made by Wabanaki students.\n\n \n\nOne day will celebrate Wabanaki storytelling traditions with a storyteller who will share stories the way they were meant to be shared: orally and within a community of people. Each camper will have the opportunity to create their own story and represent it visually\, and all of the stories will be shared on the Abbe's social media platforms. \n\n \n\nThe Museum will delve into Wabanaki perspectives of science and environment by going on a hike inside Acadia National Park. Campers will learn to identify important plants that Wabanaki people harvest and use and will also learn about Indigenous foods of the Americas\, participating in hands-on cooking experiences where they will even get to try some Native-inspired recipes. Campers will even get to produce and script their very own cooking segment. \n\n \n\nA day centered on the arts and the importance of traditions and expression will teach campers about traditional Wabanaki art forms\, giving them the opportunity to make their very own masterpiece. They will get to handle items from the Museum's collections as they learn more about the artists who made them. \n\n \n\nCamp runs from August 20- 24 from 8 am- 3 pm\, mostly at the Museum's downtown Bar Harbor location at 26 Mount Desert St. The cost to attend is $200 for the week and the extended day program until 5 pm is $88 for the full week or $22 per day. To apply\, please visit www.abbemuseum.org/programs and fill out a registration form and return it by May 15\, 2018. Space is limited.
X-ALT-DESC;FMTTYPE=text/html:<span style="color:rgb(34\, 34\, 34)\; font-family:arial\,verdana\,sans-serif\; font-size:12px">The Abbe Museum is excited to announce the Abbe Museum Summer Camp\, a children&#39\;s day camp where highly-experienced museum staff and Wabanaki educators will oversee outdoor activities and educational opportunities for children ages 7-12. Scheduled for August 20-24\, 2018\, from 8 am &ndash\; 3 pm\, each day will be thematic with other camp activities mixed in to keep children active and engaged.&nbsp\;</span>\n<div>&nbsp\;</div>\n\n<div>\n<div>Throughout the week\, segments will be dedicated to the pursuit of 12\,000 years of history and culture in the Wabanaki homeland\, allowing campers to work with the Museum&rsquo\;s educational collection as well as go on scavenger hunts and respond to art made by Wabanaki students.</div>\n\n<div>&nbsp\;</div>\n\n<div>One day will celebrate Wabanaki storytelling traditions with a storyteller who will share stories the way they were meant to be shared: orally and within a community of people. Each camper will have the opportunity to create their own story and represent it visually\, and all of the stories will be shared on the Abbe&rsquo\;s social media platforms.&nbsp\;</div>\n\n<div>&nbsp\;</div>\n\n<div>The Museum will delve into Wabanaki perspectives of science and environment by going on a hike inside Acadia National Park. Campers will learn to identify important plants that Wabanaki people harvest and use and will also learn about Indigenous foods of the Americas\, participating in hands-on cooking experiences where they will even get to try some Native-inspired recipes. Campers will even get to produce and script their very own cooking segment.&nbsp\;</div>\n\n<div>&nbsp\;</div>\n\n<div>A day centered on the arts and the importance of traditions and expression will teach campers about traditional Wabanaki art forms\, giving them the opportunity to make their very own masterpiece. They will get to handle items from the Museum&rsquo\;s collections as they learn more about the artists who made them.&nbsp\;</div>\n\n<div>&nbsp\;</div>\n\n<div>Camp runs from August 20- 24 from 8 am- 3 pm\, mostly at the Museum&rsquo\;s downtown Bar Harbor location at 26 Mount Desert St. The cost to attend is $200 for the week and the extended day program until 5 pm is $88 for the full week or $22 per day. To apply\, please visit&nbsp\;<a href="https://www.abbemuseum.org/programs/">www.abbemuseum.org/programs</a>&nbsp\;and fill out a registration form and return it by May 15\, 2018. Space is limited.</div>\n\n<div>&nbsp\;</div>\n</div>\n
LOCATION:Abbe Museum\, 26 Mount Desert St\, Bar Harbor
UID:e.3061.761
SEQUENCE:3
DTSTAMP:20260420T181129Z
URL:https://www.visitbarharbor.com/events/details/abbe-museum-summer-camp-761
END:VEVENT

END:VCALENDAR
