BEGIN:VCALENDAR
VERSION:2.0
PRODID:-//ChamberMaster//Event Calendar 2.0//EN
METHOD:PUBLISH
X-PUBLISHED-TTL:P3D
REFRESH-INTERVAL:P3D
CALSCALE:GREGORIAN
BEGIN:VEVENT
DTSTART:20191015T201000Z
DTEND:20191015T213000Z
X-MICROSOFT-CDO-ALLDAYEVENT:FALSE
SUMMARY:A Sense of Self\, Place\, and Community: The Community School’s Roots in Human Ecology
DESCRIPTION:The Community School of Mount Desert Island founder Jasmine Smith '09 joins the College of the Atlantic Human Ecology Forum to speak about how place-based education and the principles of human ecology have influenced her school's philosophy and pedagogy.
X-ALT-DESC;FMTTYPE=text/html:The Community School of Mount Desert Island founder Jasmine Smith &rsquo\;09 joins the College of the Atlantic Human Ecology Forum to speak about how place-based education and the principles of human ecology have influenced her school&rsquo\;s philosophy and pedagogy.
LOCATION:College of the Atlantic - McCormick Lecture Hall
UID:e.3061.15115
SEQUENCE:3
DTSTAMP:20260419T160345Z
URL:https://www.visitbarharbor.com/events/details/a-sense-of-self-place-and-community-the-community-school-s-roots-in-human-ecology-15115
END:VEVENT

END:VCALENDAR
