BEGIN:VCALENDAR
VERSION:2.0
PRODID:-//ChamberMaster//Event Calendar 2.0//EN
METHOD:PUBLISH
X-PUBLISHED-TTL:P3D
REFRESH-INTERVAL:P3D
CALSCALE:GREGORIAN
BEGIN:VEVENT
DTSTART:20191120T232500Z
DTEND:20191121T003000Z
X-MICROSOFT-CDO-ALLDAYEVENT:FALSE
SUMMARY:A Guide to Loss and Grieving in the Anthropocene: Art\, Psychology and Climate Change
DESCRIPTION:Join Unity College professors\, Deena Witman\, an artist\, and Will Hafford\, a psychologist\, for a discussion about climate change and its associated personal and community impacts\, on Wednesday\, Nov. 20 at 6:30 p.m. at the Jesup Memorial Library.\n\n \n\nThe talk will consider climate change from a variety of perspectives drawn from the worlds of both art and psychology. Witman and Hafford will also ask audience members for their thoughts during a facilitated community dialogue. \n\n \n\nWitman is a Maine transdisciplinary artist working with photographic media. She studied environmental sciences\, which led to her working as a field biologist for more than a decade. Her creative practice is a merger of inquiry and discovery with that of experimentation and expression. Her work questions our relationship to the natural world\, our place in the universe\, and our responsibly to this earth and those who inhabit it. She is an Assistant Professor in Environmental Humanities at Unity College and the managing editor of Hawk & Handsaw The Journal of Creative Sustainability.\n\n \n\nHafford is a clinical psychologist in private practice as well as an associate professor of psychology and adventure therapy at Unity College. His areas of study include climate change psychology\, the mental health benefits of nature and the impacts of experiential group work.  \n\n \n\nFor more information on this talk\, contact the Jesup at 207-288-4245.
X-ALT-DESC;FMTTYPE=text/html:<span style="font-family:times new roman\,serif"><span style="font-size:14.0pt">Join Unity College professors\, Deena Witman\, an artist\, and Will Hafford\, a psychologist\, for a discussion about climate change and its associated personal and community impacts\, on Wednesday\, Nov. 20 at 6:30 p.m. at the Jesup Memorial Library.</span></span><br />\n&nbsp\;<br />\n<span style="font-family:times new roman\,serif"><span style="font-size:14.0pt">The talk will consider climate change from a variety of perspectives drawn from the worlds of both art and psychology. Witman and Hafford will also ask audience members for their thoughts during a facilitated community dialogue. </span></span><br />\n&nbsp\;<br />\n<span style="font-family:times new roman\,serif"><span style="font-size:14.0pt">Witman is a Maine transdisciplinary artist working with photographic media. She studied environmental sciences\, which led to her working as a field biologist for more than a decade. Her creative practice is a merger of inquiry and discovery with that of experimentation and expression. Her work questions our relationship to the natural world\, our place in the universe\, and our responsibly to this earth and those who inhabit it. She is an Assistant Professor in Environmental Humanities at Unity College and the managing editor of <em>Hawk &amp\; Handsaw&mdash\;The Journal of Creative Sustainability</em>.</span></span><br />\n&nbsp\;<br />\n<span style="font-family:times new roman\,serif"><span style="font-size:14.0pt">Hafford is a clinical psychologist in private practice as well as an associate professor of psychology and adventure therapy at Unity College. His areas of study include climate change psychology\, the mental health benefits of nature and the impacts of experiential group work.&nbsp\; </span></span><br />\n&nbsp\;<br />\n<span style="font-family:times new roman\,serif"><span style="font-size:14.0pt">For more information on this talk\, contact the Jesup at 207-288-4245. </span></span><br />\n&nbsp\;
LOCATION:Jesup Memorial Library\, 34 Mt. Desert St.\, Bar Harbor\, ME 04609
UID:e.3061.16520
SEQUENCE:3
DTSTAMP:20260419T142536Z
URL:https://www.visitbarharbor.com/events/details/a-guide-to-loss-and-grieving-in-the-anthropocene-art-psychology-and-climate-change-16520
END:VEVENT

END:VCALENDAR
