BEGIN:VCALENDAR
VERSION:2.0
PRODID:-//ChamberMaster//Event Calendar 2.0//EN
METHOD:PUBLISH
X-PUBLISHED-TTL:P3D
REFRESH-INTERVAL:P3D
CALSCALE:GREGORIAN
BEGIN:VEVENT
DTSTART:20180802T213000Z
DTEND:20180803T000000Z
X-MICROSOFT-CDO-ALLDAYEVENT:FALSE
SUMMARY:A Flight of Swallows
DESCRIPTION:A gala evening to support the exhbition and educational programs of the Wendell Gilley Museum. With fifty notable wines from the Pacific Coast to sample\, delicious food pairings\, jazz music\, and good conversation\, it is an evening not to miss! We celebrate and recognize our sponsors - contact us to become a supporting friend or businesses and make this event soar. Tickets are available online or by calling the Museum\, 207-244-7555.
X-ALT-DESC;FMTTYPE=text/html:A gala evening to support the exhbition and educational programs of the Wendell Gilley Museum. With fifty notable wines from the Pacific Coast to sample\, delicious food pairings\, jazz music\, and good conversation\, it is an evening not to miss! We celebrate and recognize our sponsors - contact us to become a supporting friend or businesses and make this event soar. Tickets are available online or by calling the Museum\, 207-244-7555.
LOCATION:The Neighborhood House 1 Kimball Rd Northeast Harbor\, ME 04662
UID:e.3061.3298
SEQUENCE:3
DTSTAMP:20260420T165010Z
URL:https://www.visitbarharbor.com/events/details/a-flight-of-swallows-3298
END:VEVENT

END:VCALENDAR
