BEGIN:VCALENDAR
VERSION:2.0
PRODID:-//ChamberMaster//Event Calendar 2.0//EN
METHOD:PUBLISH
X-PUBLISHED-TTL:P3D
REFRESH-INTERVAL:P3D
CALSCALE:GREGORIAN
BEGIN:VEVENT
DTSTART:20180602T140000Z
DTEND:20180602T160000Z
X-MICROSOFT-CDO-ALLDAYEVENT:FALSE
SUMMARY:A Climate To Thrive Electric Vehicle (EV) Symposium - The Future is Here
DESCRIPTION:Electric Vehicles (EVs) are here and they're saving people money while protecting our air and climate. Nearly all major car makers are ramping up production of a variety of models\, and there are more and more public charging stations in Maine. Come hear from and question Maine's leading EV specialists\, talk with local EV owners\, and see and ride in EVs.
X-ALT-DESC;FMTTYPE=text/html:Electric Vehicles (EVs) are here and they&#39\;re saving people money while protecting our air and climate. Nearly all major car makers are ramping up production of a variety of models\, and there are more and more public charging stations in Maine. Come hear from and question Maine&#39\;s leading EV specialists\, talk with local EV owners\, and see and ride in EVs.
LOCATION:Moore Community Center\, Ellsworth
UID:e.3061.2503
SEQUENCE:3
DTSTAMP:20260420T200126Z
URL:https://www.visitbarharbor.com/events/details/a-climate-to-thrive-electric-vehicle-ev-symposium-the-future-is-here-2503
END:VEVENT

END:VCALENDAR
