BEGIN:VCALENDAR
VERSION:2.0
PRODID:-//ChamberMaster//Event Calendar 2.0//EN
METHOD:PUBLISH
X-PUBLISHED-TTL:P3D
REFRESH-INTERVAL:P3D
CALSCALE:GREGORIAN
BEGIN:VEVENT
DTSTART:20180708T213000Z
DTEND:20180708T233000Z
X-MICROSOFT-CDO-ALLDAYEVENT:FALSE
SUMMARY:A Celebration of Art\, Opening Reception
DESCRIPTION:Artists and Exhibition Opening for A Celebration of Art\, a silent auction to benefit the Southwest Harbor Public Library. Live music from Beech Mountain Project\, good food\, and wonderful work to take in!
X-ALT-DESC;FMTTYPE=text/html:Artists and Exhibition Opening for A Celebration of Art\, a silent auction to benefit the Southwest Harbor Public Library. Live music from Beech Mountain Project\, good food\, and wonderful work to take in!
LOCATION:Southwest Harbor Public Library
UID:e.3061.3021
SEQUENCE:3
DTSTAMP:20260420T182714Z
URL:https://www.visitbarharbor.com/events/details/a-celebration-of-art-opening-reception-3021
END:VEVENT

END:VCALENDAR
