BEGIN:VCALENDAR
VERSION:2.0
PRODID:-//ChamberMaster//Event Calendar 2.0//EN
METHOD:PUBLISH
X-PUBLISHED-TTL:P3D
REFRESH-INTERVAL:P3D
CALSCALE:GREGORIAN
BEGIN:VEVENT
DTSTART;VALUE=DATE:20180718
DTEND;VALUE=DATE:20180719
TRANSP:TRANSPARENT
X-MICROSOFT-CDO-ALLDAYEVENT:TRUE
SUMMARY:A Celebration of Art
DESCRIPTION:Library Fundraiser A Celebration of Art Summer Art Exhibit and Silent Auction July 9 - August 4 Come and view the work of our talented community artists\, bid on your favorites\, or better yet\, Buy It Now! Opening Reception Sunday\, July 8 from 5:30-7:30
X-ALT-DESC;FMTTYPE=text/html:Library Fundraiser A Celebration of Art Summer Art Exhibit and Silent Auction July 9 - August 4 Come and view the work of our talented community artists\, bid on your favorites\, or better yet\, Buy It Now! Opening Reception Sunday\, July 8 from 5:30-7:30
LOCATION:Southwest Harbor Public Library
UID:e.3061.3038
SEQUENCE:3
DTSTAMP:20260420T182952Z
URL:https://www.visitbarharbor.com/events/details/a-celebration-of-art-07-18-2018-3038
END:VEVENT

END:VCALENDAR
