BEGIN:VCALENDAR
VERSION:2.0
PRODID:-//ChamberMaster//Event Calendar 2.0//EN
METHOD:PUBLISH
X-PUBLISHED-TTL:P3D
REFRESH-INTERVAL:P3D
CALSCALE:GREGORIAN
BEGIN:VEVENT
DTSTART:20190924T124500Z
DTEND:20190925T180000Z
X-MICROSOFT-CDO-ALLDAYEVENT:FALSE
SUMMARY:5th & 6th Grade Field Days
DESCRIPTION:Woodlawn in partnership with the Seal Cove Auto Museum\, The University of Maine Cooperative Extension\, Healthy Acadia\, College of the Atlantic\, is hosting the sixth annual Fall Field Days designed for students in grades 5th & 6th.  Students participate in 6 sessions exploring soil science\, history\, apples & cider making.
X-ALT-DESC;FMTTYPE=text/html:Woodlawn in partnership with the Seal Cove Auto Museum\, The University of Maine Cooperative Extension\, Healthy Acadia\, College of the Atlantic\, is hosting the sixth annual Fall Field Days designed for students in grades 5th &amp\; 6th.&nbsp\; Students participate in 6 sessions exploring soil science\, history\, apples &amp\; cider making.
LOCATION:Woodlawn Museum 19 Black House Dr. Ellsworth\, ME 04605
UID:e.3061.8936
SEQUENCE:3
DTSTAMP:20260419T173028Z
URL:https://www.visitbarharbor.com/events/details/5th-6th-grade-field-days-8936
END:VEVENT

END:VCALENDAR
