BEGIN:VCALENDAR
VERSION:2.0
PRODID:-//ChamberMaster//Event Calendar 2.0//EN
METHOD:PUBLISH
X-PUBLISHED-TTL:P3D
REFRESH-INTERVAL:P3D
CALSCALE:GREGORIAN
BEGIN:VEVENT
DTSTART:20190630T200000Z
DTEND:20190630T220000Z
X-MICROSOFT-CDO-ALLDAYEVENT:FALSE
SUMMARY:53rd Annual Bar Harbor Music Festival TEA CONCERT
DESCRIPTION:Opening Day of the Bar Harbor Music Festival's 53rd Season presents a Tea Concert on Sunday\, June 30\, 2019\, 4:00 p.m. at the Bar Harbor Historical Society (formerly the Maine Seacoast Mission)\, 127 West Street in Bar Harbor. Mezzo-Soprano Audrey Babcock with Pianist\, Cara Chowing will present an afternoon of art song by Brahms\, Debussy\, Obradors\, Ravel\, and Copland on the verandah of this magnificent mansion overlooking Frenchman Bay. Visit our website at barharbormusicfestival.org to order tickets.
X-ALT-DESC;FMTTYPE=text/html:Opening Day of the Bar Harbor Music Festival&#39\;s 53rd Season presents a Tea Concert on Sunday\, June 30\, 2019\, 4:00 p.m. at the Bar Harbor Historical Society (formerly the Maine Seacoast Mission)\, 127 West Street in Bar Harbor. Mezzo-Soprano Audrey Babcock with Pianist\, Cara Chowing will present an afternoon of art song by Brahms\, Debussy\, Obradors\, Ravel\, and Copland on the verandah of this magnificent mansion overlooking Frenchman Bay. Visit our website at barharbormusicfestival.org to order tickets.
LOCATION:This concert takes place on the verandah of the Bar Harbor Historical Society\, 127 West Street\, Bar Harbor\, overlooking Frenchman Bay.
UID:e.3061.5447
SEQUENCE:3
DTSTAMP:20260419T231851Z
URL:https://www.visitbarharbor.com/events/details/53rd-annual-bar-harbor-music-festival-tea-concert-5447
END:VEVENT

END:VCALENDAR
