BEGIN:VCALENDAR
VERSION:2.0
PRODID:-//ChamberMaster//Event Calendar 2.0//EN
METHOD:PUBLISH
X-PUBLISHED-TTL:P3D
REFRESH-INTERVAL:P3D
CALSCALE:GREGORIAN
BEGIN:VEVENT
DTSTART:20191005T120000Z
DTEND:20191005T150000Z
X-MICROSOFT-CDO-ALLDAYEVENT:FALSE
SUMMARY:4th Annual Running for Rides\, Mary Parker Memorial Race
DESCRIPTION:The 4th Annual "Running for Rides\, Mary Parker Memorial 5K" run and walk is set for Saturday\, October 5 beginning at 8 a.m. The race is a fundraiser created in honor of Mary's passion for Island Connections where she worked as the Transportation Coordinator prior to losing her battle with cancer. The course begins at Pat's Pizza in Bar Harbor and continues through a portion of the Park Loop Road in Acadia National Park. This is a race for runners and walkers alike\, and friendly furry friends on a leash are welcome. All proceeds benefit Island Connections\, whose mission involves meeting the transportation needs for those who are seniors or people with physical or mental challenges. For more information\, please call 207- 288-4457 or visit the website at islconnections.org. To sign up for the race\, please click here: https://runsignup.com/Race/ME/BarHarbor/4thAnnualRunningforRidesMaryParkerMemorial5KRace
X-ALT-DESC;FMTTYPE=text/html:The 4th Annual &ldquo\;Running for Rides\, Mary Parker Memorial 5K&rdquo\; run and walk is set for Saturday\, October 5 beginning at 8 a.m. The race is a fundraiser created in honor of Mary&rsquo\;s passion for Island Connections where she worked as the Transportation Coordinator prior to losing her battle with cancer. The course begins at Pat&rsquo\;s Pizza in Bar Harbor and continues through a portion of the Park Loop Road in Acadia National Park. This is a race for runners and walkers alike\, and friendly furry friends on a leash are welcome. All proceeds benefit Island Connections\, whose mission involves meeting the transportation needs for those who are seniors or people with physical or mental challenges. For more information\, please call <span class="gc-cs-link" id="gc-number-0" title="Call with Google Voice">207- 288-4457</span> or visit the website at islconnections.org. To sign up for the race\, please click here: https://runsignup.com/Race/ME/BarHarbor/4thAnnualRunningforRidesMaryParkerMemorial5KRace
LOCATION:Race starts at Pat's Pizza in Bar Harbor\, 16 Pleasant Street\, Bar Harbor\, Miane 04609
UID:e.3061.14498
SEQUENCE:3
DTSTAMP:20260419T160055Z
URL:https://www.visitbarharbor.com/events/details/4th-annual-running-for-rides-mary-parker-memorial-race-14498
END:VEVENT

END:VCALENDAR
