BEGIN:VCALENDAR
VERSION:2.0
PRODID:-//ChamberMaster//Event Calendar 2.0//EN
METHOD:PUBLISH
X-PUBLISHED-TTL:P3D
REFRESH-INTERVAL:P3D
CALSCALE:GREGORIAN
BEGIN:VEVENT
DTSTART:20180710T170000Z
DTEND:20180710T190000Z
X-MICROSOFT-CDO-ALLDAYEVENT:FALSE
SUMMARY:43rd Annual Strawberry Festival
DESCRIPTION:A tradition going back over 40 years! Enjoy delicious strawberry shortcake topped by clouds of freshly whipped cream. The recipe is the same one used at the first Strawberry Festival in 1975. Cohosted by the Mount Desert Island Historical Society. Includes lemonade and iced tea as well.
X-ALT-DESC;FMTTYPE=text/html:<div>\n<div style="background:transparent\; border:0px\; padding:58px 0px 0px">\n<div style="background:transparent\; border:0px\; padding:0px">\n<div style="background:transparent\; border:0px\; padding:23px 0px 0px !important">\n<div style="background:transparent\; border:0px\; padding:30px 0px 0px">\n<p>A tradition going back over 40 years! Enjoy delicious strawberry shortcake topped by clouds of freshly whipped cream. The recipe is the same one used at the first Strawberry Festival in 1975. Cohosted by the&nbsp\;<a href="https://mdihistory.org/" style="box-sizing: border-box\; margin: 0px\; padding: 0px\; border: 0px\; outline: 0px\; background: transparent\; vertical-align: baseline\; color: rgb(205\, 92\, 92)\; text-decoration-line: none\;">Mount Desert Island Historical Society</a>. Includes lemonade and iced tea as well.</p>\n</div>\n\n<div style="background:transparent\; border:0px\; padding:0px">&nbsp\;</div>\n</div>\n</div>\n</div>\n</div>\n\n<div style="background:transparent\; border:0px\; padding:0px">\n<div style="background:transparent\; border:0px\; padding:64.7969px 0px 0px">\n<div>\n<div style="background:transparent\; border:0px\; padding:0px">\n<div style="background:transparent\; border:0px\; padding:0px">&nbsp\;</div>\n</div>\n</div>\n\n<div>\n<div style="background:transparent\; border:0px\; padding:0px">\n<div style="background:transparent\; border:0px\; padding:0px">&nbsp\;</div>\n</div>\n</div>\n\n<div>\n<div style="background:transparent\; border:0px\; padding:0px">&nbsp\;</div>\n</div>\n</div>\n</div>\n
LOCATION:Somesville Fire Station
UID:e.3061.2849
SEQUENCE:3
DTSTAMP:20260420T182951Z
URL:https://www.visitbarharbor.com/events/details/43rd-annual-strawberry-festival-2849
END:VEVENT

END:VCALENDAR
