BEGIN:VCALENDAR
VERSION:2.0
PRODID:-//ChamberMaster//Event Calendar 2.0//EN
METHOD:PUBLISH
X-PUBLISHED-TTL:P3D
REFRESH-INTERVAL:P3D
CALSCALE:GREGORIAN
BEGIN:VEVENT
DTSTART:20180528T150000Z
DTEND:20180529T010000Z
X-MICROSOFT-CDO-ALLDAYEVENT:FALSE
SUMMARY:3rd Annual C-4 Cocktail Fundraiser for Navy SEAL support
DESCRIPTION:Join us in the Galley Lounge on Memorial Day as we honor the memory of our friend\, fallen Navy SEAL Charlie Keating IV. The purchase price of all C-4 Cocktails purchased on May 28\, plus all bartender tips\, will be donated to the Navy SEAL Foundation and the Charlie H. Keating IV Foundation to support the Naval Special Warfare community and its families.
X-ALT-DESC;FMTTYPE=text/html:<p><span style="font-size:14px"><span style="font-family:placard mt bold condensed\,sans-serif">Join us in the Galley Lounge on Memorial Day as we honor the memory of our friend\, fallen Navy SEAL Charlie Keating IV. The purchase price of all C-4 Cocktails purchased on May 28\, plus all bartender tips\, will be donated to the Navy SEAL Foundation and the Charlie H. Keating IV Foundation to support the Naval Special Warfare community and its families.</span></span></p>\n
LOCATION:Galyn's 17 Main St\, Bar Harbor
UID:e.3061.849
SEQUENCE:3
DTSTAMP:20260420T215918Z
URL:https://www.visitbarharbor.com/events/details/3rd-annual-c-4-cocktail-fundraiser-for-navy-seal-support-849
END:VEVENT

END:VCALENDAR
