BEGIN:VCALENDAR
VERSION:2.0
PRODID:-//ChamberMaster//Event Calendar 2.0//EN
METHOD:PUBLISH
X-PUBLISHED-TTL:P3D
REFRESH-INTERVAL:P3D
CALSCALE:GREGORIAN
BEGIN:VEVENT
DTSTART:20190208T130000Z
DTEND:20190210T220000Z
X-MICROSOFT-CDO-ALLDAYEVENT:FALSE
SUMMARY:29th annual U.S. National Toboggan Championships
DESCRIPTION:The 29th annual U.S. National Toboggan Championships will be held Feb. 8-10\, 2019\, in Camden\, Maine! Each year\, up to 425 teams of racers gather to ride traditional wood toboggans down the country's only remaining gravity-powered 440-foot-long wooden toboggan chute\, originally built in 1936\, which ends with a slide across frozen Hosmer Pond. Toboggan Nationals is the signature event of the 9-day Winterfest festival with ice sculpting\, the CamJam ski and snowboard exhibition\, music concert at the Camden Opera House and more in the days leading up to Toboggan Nationals weekend. Toboggan team registration is underway\, and space is limited. Register by Jan. 4 and your team name will be included in the official program. So\, gather your costumes and get ready to race down the chute at the Camden Snow Bowl! For more information on rules\, toboggan regulations\, parking information and registration forms\, visit http://www.camdensnowbowl.com/toboggan.
X-ALT-DESC;FMTTYPE=text/html:The 29th annual U.S. National Toboggan Championships will be held Feb. 8-10\, 2019\, in Camden\, Maine! Each year\, up to 425 teams of racers gather to ride traditional wood toboggans down the country&#39\;s only remaining gravity-powered 440-foot-long wooden toboggan chute\, originally built in 1936\, which ends with a slide across frozen Hosmer Pond. Toboggan Nationals is the signature event of the 9-day Winterfest festival with ice sculpting\, the CamJam ski and snowboard exhibition\, music concert at the Camden Opera House and more in the days leading up to Toboggan Nationals weekend. Toboggan team registration is underway\, and space is limited. Register by Jan. 4 and your team name will be included in the official program. So\, gather your costumes and get ready to race down the chute at the Camden Snow Bowl! For more information on rules\, toboggan regulations\, parking information and registration forms\, visit http://www.camdensnowbowl.com/toboggan.
LOCATION:Camden Snow Bowl
UID:e.3061.4896
SEQUENCE:3
DTSTAMP:20260420T081922Z
URL:https://www.visitbarharbor.com/events/details/29th-annual-u-s-national-toboggan-championships-4896
END:VEVENT

END:VCALENDAR
