BEGIN:VCALENDAR
VERSION:2.0
PRODID:-//ChamberMaster//Event Calendar 2.0//EN
METHOD:PUBLISH
X-PUBLISHED-TTL:P3D
REFRESH-INTERVAL:P3D
CALSCALE:GREGORIAN
BEGIN:VEVENT
DTSTART:20180605T160000Z
DTEND:20180605T220000Z
X-MICROSOFT-CDO-ALLDAYEVENT:FALSE
SUMMARY:25th Annual David R Harding Memorial Golf Tournament presented by Bar Harbor Bank & Trust
DESCRIPTION:Enjoy a day of great golf\, food and friends while raising funds to benefit the Island Housing Trust.\n\n\nGet excited for the 25th year of the David R Harding Golf Tournament! This year we will be raising funds for Island Housing Trust. Island Housing Trust promotes viable\, year-round island communities by advancing permanent workforce housing on Mount Desert Island\, Maine. IHT envisions a future where MDI has a significant percentage of affordable year round housing available to the workforce. The dwelling units are protected by covenants\, enforced in perpetuity.\n\n \nThe tournament is a shotgun start. scramble format\, 18 holes\, teams of 4. We will have prizes for 1st and 2nd Gross\, 1st and 2nd Net\, Ladies 1st Net and Mixed 1st Net. To play is a $90 entry fee per person\, this includes a golf cart\, gifts and a BBQ dinner after the tournament. There will also be side games throughout the day\, a silent auction and a putting contest! \n\n\n\nIf you would like to put a team together to play in the tournament\, Click here to download the golfer registration form\n\n\n\nIf you aren't able to play in the tournament but would like to sponsor\, Click here to download the sponsorship form\n\n \n\nFor more information about Island Housing Trust go to: www.islandhousingtrust.org
X-ALT-DESC;FMTTYPE=text/html:<h5 style="text-align:center"><span style="font-size:12px"><strong>Enjoy a day of great golf\, food and friends while raising funds to benefit the Island Housing Trust.</strong></span></h5>\n<br />\n<span style="color:rgb(34\, 34\, 34)\; font-family:arial\,verdana\,sans-serif\; font-size:12px">Get excited for the 25th year of the David R Harding Golf Tournament! This year we will be raising funds for Island Housing Trust.&nbsp\;</span><span style="color:rgb(76\, 76\, 76)\; font-family:open sans\,sans-serif">Island Housing Trust promotes viable\, year-round island communities by advancing permanent workforce housing on Mount Desert Island\, Maine. IHT envisions a future where MDI has a significant percentage of affordable year round housing available to the workforce. The dwelling units are protected by covenants\, enforced in perpetuity.</span><br />\n&nbsp\;\n<p>The tournament is a shotgun start. scramble format\, 18 holes\, teams of 4. We will have prizes for 1st and 2nd Gross\, 1st and 2nd Net\, Ladies 1st Net and Mixed 1st Net. To play is a $90 entry fee per person\, this includes a golf cart\, gifts and a BBQ dinner after the tournament. There will also be side games throughout the day\, a silent auction and a putting contest!&nbsp\;<br />\n<br />\nIf you would like to put a team together to play in the tournament\,&nbsp\;<a href="https://www.bhbt.com/assets/files/CdFBfajn/march2018_HardingGolf%20Tournament%20Form.pdf" style="color: rgb(0\, 160\, 96)\; text-decoration-line: none\;" target="_self"><strong>Click here</strong></a>&nbsp\;to download the golfer registration form<br />\n<br />\nIf you aren&#39\;t able to play in the tournament but would like to sponsor\,&nbsp\;<a href="https://www.bhbt.com/assets/files/Lt88Nwfp/Tournament%20Sponsorship%20form.pdf" style="color: rgb(0\, 160\, 96)\; text-decoration-line: none\;" target="_self"><strong>Click here</strong></a>&nbsp\;to download the sponsorship form<br />\n&nbsp\;</p>\n\n<p>For more information about Island Housing Trust go to:&nbsp\;<a class="external" href="http://www.islandhousingtrust.org/" style="color: rgb(0\, 160\, 96)\; text-decoration-line: none\;" target="_blank">www.islandhousingtrust.org</a></p>\n
LOCATION:Kebo Valley Golf Club 136 Eagle Lake Road Bar Harbor\, ME 04609
UID:e.3061.818
SEQUENCE:3
DTSTAMP:20260420T200531Z
URL:https://www.visitbarharbor.com/events/details/25th-annual-david-r-harding-memorial-golf-tournament-presented-by-bar-harbor-bank-trust-818
END:VEVENT

END:VCALENDAR
