BEGIN:VCALENDAR
VERSION:2.0
PRODID:-//ChamberMaster//Event Calendar 2.0//EN
METHOD:PUBLISH
X-PUBLISHED-TTL:P3D
REFRESH-INTERVAL:P3D
CALSCALE:GREGORIAN
BEGIN:VEVENT
DTSTART:20190904T123000Z
DTEND:20190904T200000Z
X-MICROSOFT-CDO-ALLDAYEVENT:FALSE
SUMMARY:2019 Woodlawn Big Lobster Tournament
DESCRIPTION:Spectators welcome.\n\nThe Woodlawn Croquet Big Lobster Tournament is open to all USCA members and is a 6 Wicket Singles USCA sanctioned tournament. Tournament play will center on the full sized court next to the Historic Black House on the Grounds of the 180 acre Woodlawn Museum in Ellsworth\, Maine. The other courts being used are the Tapley Cove Court in Brooksville\, the Sorrento VIA Court in Sorrento\, and the Hinckley Court in Southwest Harbor. Courts will be open for practice on Wednesday\, Sept. 4. The opening reception and dinner will be held at 6pm on Tuesday\, September 3rd at the Woodlawn Museum Sleigh Barn. Tournament play will commence on Thursday morning\, September 5\, and end with the final matches on Sunday\, September 8. Trophies will be awarded to the top three players in each flight.
X-ALT-DESC;FMTTYPE=text/html:<p>Spectators welcome.</p>\n\n<p>The Woodlawn Croquet Big Lobster Tournament is open to all USCA members and is a 6 Wicket Singles USCA sanctioned tournament. Tournament play will center on the full sized court next to the Historic Black House on the Grounds of the 180 acre Woodlawn Museum in Ellsworth\, Maine. The other courts being used are the Tapley Cove Court in Brooksville\, the Sorrento VIA Court in Sorrento\, and the Hinckley Court in Southwest Harbor. Courts will be open for practice on Wednesday\, Sept. 4. The opening reception and dinner will be held at 6pm on Tuesday\, September 3rd at the Woodlawn Museum Sleigh Barn. Tournament play will commence on Thursday morning\, September 5\, and end with the final matches on Sunday\, September 8. Trophies will be awarded to the top three players in each flight.</p>\n
LOCATION:Woodlawn Museum 19 Black House Dr. Ellsworth\, ME 04605
UID:e.3061.8943
SEQUENCE:3
DTSTAMP:20260419T173819Z
URL:https://www.visitbarharbor.com/events/details/2019-woodlawn-big-lobster-tournament-8943
END:VEVENT

END:VCALENDAR
