BEGIN:VCALENDAR
VERSION:2.0
PRODID:-//ChamberMaster//Event Calendar 2.0//EN
METHOD:PUBLISH
X-PUBLISHED-TTL:P3D
REFRESH-INTERVAL:P3D
CALSCALE:GREGORIAN
BEGIN:VEVENT
DTSTART:20190119T180000Z
DTEND:20190119T220000Z
X-MICROSOFT-CDO-ALLDAYEVENT:FALSE
SUMMARY:2019 Bar Harbor Winter Beer Fest
DESCRIPTION:Grab your mittens and hats\, it is time to get outside and have a beer with us at the fourth Annual Bar Harbor Winter Beer Fest! Come celebrate Downeast Maine?s craft beer scene outside at Atlantic Brewing Company. There will be warming stations to keep you toasty warm while you work your way through all the craft beer samples.\n\n\n\nGet your blood and adrenaline pumping by joining in on the keg stacking relay and cornhole games. There will also be food and live music.\n\n\n\nTickets are ONLY available by purchasing in advance. Tickets will be available in December 2018.
X-ALT-DESC;FMTTYPE=text/html:Grab your mittens and hats\, it is time to get outside and have a beer with us at the fourth Annual Bar Harbor Winter Beer Fest! Come celebrate Downeast Maine?s craft beer scene outside at Atlantic Brewing Company. There will be warming stations to keep you toasty warm while you work your way through all the craft beer samples.<br />\n<br />\nGet your blood and adrenaline pumping by joining in on the keg stacking relay and cornhole games. There will also be food and live music.<br />\n<br />\nTickets are ONLY available by purchasing in advance. Tickets will be available in December 2018.
LOCATION:Atlantic Brewing Midtown
UID:e.3061.3855
SEQUENCE:3
DTSTAMP:20260420T081505Z
URL:https://www.visitbarharbor.com/events/details/2019-bar-harbor-winter-beer-fest-3855
END:VEVENT

END:VCALENDAR
