BEGIN:VCALENDAR
VERSION:2.0
PRODID:-//ChamberMaster//Event Calendar 2.0//EN
METHOD:PUBLISH
X-PUBLISHED-TTL:P3D
REFRESH-INTERVAL:P3D
CALSCALE:GREGORIAN
BEGIN:VEVENT
DTSTART;VALUE=DATE:20180905
DTEND;VALUE=DATE:20180910
TRANSP:TRANSPARENT
X-MICROSOFT-CDO-ALLDAYEVENT:TRUE
SUMMARY:2018 Woodlawn Mini Lobster Tournament
DESCRIPTION:Spectators welcome. The Woodlawn Croquet Mini Lobster Tournament is open to all USCA members and is a 6 Wicket Singles USCA sanctioned tournament. Tournament play will center on the full sized court next to the Historic Black House on the Grounds of the 180 acre Woodlawn Museum in Ellsworth\, Maine. The other courts being used are the Tapley Cove Court in Brooksville\, the Sorrento VIA Court in Sorrento\, and the Hinckley Court in Southwest Harbor. Courts will be open for practice on Wednesday\, Sept. 5. The opening reception and dinner will be held at 6pm on Wednesday September 5th at the Woodlawn Museum Sleigh Barn. Tournament play will commence on Thursday morning\, September 6\, and end with the final matches on Sunday\, September 9. Trophies will be awarded to the top three players in each flight.
X-ALT-DESC;FMTTYPE=text/html:Spectators welcome. The Woodlawn Croquet Mini Lobster Tournament is open to all USCA members and is a 6 Wicket Singles USCA sanctioned tournament. Tournament play will center on the full sized court next to the Historic Black House on the Grounds of the 180 acre Woodlawn Museum in Ellsworth\, Maine. The other courts being used are the Tapley Cove Court in Brooksville\, the Sorrento VIA Court in Sorrento\, and the Hinckley Court in Southwest Harbor. Courts will be open for practice on Wednesday\, Sept. 5. The opening reception and dinner will be held at 6pm on Wednesday September 5th at the Woodlawn Museum Sleigh Barn. Tournament play will commence on Thursday morning\, September 6\, and end with the final matches on Sunday\, September 9. Trophies will be awarded to the top three players in each flight.
LOCATION:Woodlawn Museum\, 19 Black House Drive\, Ellsworth\, ME 04605
UID:e.3061.2801
SEQUENCE:3
DTSTAMP:20260420T164259Z
URL:https://www.visitbarharbor.com/events/details/2018-woodlawn-mini-lobster-tournament-2801
END:VEVENT

END:VCALENDAR
