BEGIN:VCALENDAR
VERSION:2.0
PRODID:-//ChamberMaster//Event Calendar 2.0//EN
METHOD:PUBLISH
X-PUBLISHED-TTL:P3D
REFRESH-INTERVAL:P3D
CALSCALE:GREGORIAN
BEGIN:VEVENT
DTSTART:20180609T130000Z
DTEND:20180609T160000Z
X-MICROSOFT-CDO-ALLDAYEVENT:FALSE
SUMMARY:2018 Wild Gardens of Acadia Plant Sale
DESCRIPTION:Looking to enhance your gardens this year? Come to the Wild Gardens of Acadia Plant Sale at St. Saviour's Episcopal Church on Saturday\, June 9\, 2018 from 9 a.m. to noon. The sale features annuals\, perennials\, vegetable seedlings\, native plants\, and shrubs that are donated by individual gardeners\, estates\, and commercial greenhouses. Proceeds benefit the Wild Gardens of Acadia\, an educational garden located at Sieur de Monts in Acadia National Park that displays more than 400 native plant species in representative habitats of the park. For more information\, contact Friends of Acadia at 207-288-3340.
X-ALT-DESC;FMTTYPE=text/html:Looking to enhance your gardens this year? Come to the Wild Gardens of Acadia Plant Sale at St. Saviour&#39\;s Episcopal Church on Saturday\, June 9\, 2018 from 9 a.m. to noon. The sale features annuals\, perennials\, vegetable seedlings\, native plants\, and shrubs that are donated by individual gardeners\, estates\, and commercial greenhouses. Proceeds benefit the Wild Gardens of Acadia\, an educational garden located at Sieur de Monts in Acadia National Park that displays more than 400 native plant species in representative habitats of the park. For more information\, contact Friends of Acadia at 207-288-3340.&nbsp\;
LOCATION:St. Saviour's Episcopal Church\, 41 Mount Desert Street\, Bar Harbor
UID:e.3061.2568
SEQUENCE:3
DTSTAMP:20260420T200531Z
URL:https://www.visitbarharbor.com/events/details/2018-wild-gardens-of-acadia-plant-sale-2568
END:VEVENT

END:VCALENDAR
