BEGIN:VCALENDAR
VERSION:2.0
PRODID:-//ChamberMaster//Event Calendar 2.0//EN
METHOD:PUBLISH
X-PUBLISHED-TTL:P3D
REFRESH-INTERVAL:P3D
CALSCALE:GREGORIAN
BEGIN:VEVENT
DTSTART:20180719T000000Z
DTEND:20180719T020000Z
X-MICROSOFT-CDO-ALLDAYEVENT:FALSE
SUMMARY:2018 Seaside Cinema - Babe
DESCRIPTION:Summer weekly outdoor movies under the stars! Movie starts as soon as the sun goes down.\n\nBabe: Gentle farmer Arthur Hoggett (James Cromwell) wins a piglet named Babe (Christine Cavanaugh) at a county fair. Narrowly escaping his fate as Christmas dinner when Farmer Hoggett decides to show him at the next fair\, Babe bonds with motherly border collie Fly (Miriam Margolyes) and discovers that he too can herd sheep. But will the other farm animals\, including Fly's jealous husband Rex\, accept a pig who doesn't conform to the farm's social hierarchy?\n\n\n\nClick here to download the full schedule of movies
X-ALT-DESC;FMTTYPE=text/html:Summer weekly outdoor movies under the stars!&nbsp\;Movie starts as soon as the sun goes down.<br />\nBabe:&nbsp\;Gentle farmer Arthur Hoggett (James Cromwell) wins a piglet named Babe (Christine Cavanaugh) at a county fair. Narrowly escaping his fate as Christmas dinner when Farmer Hoggett decides to show him at the next fair\, Babe bonds with motherly border collie Fly (Miriam Margolyes) and discovers that he too can herd sheep. But will the other farm animals\, including Fly&#39\;s jealous husband Rex\, accept a pig who doesn&#39\;t conform to the farm&#39\;s social hierarchy?<br />\n<br />\n<a href="https://chambermaster.blob.core.windows.net/userfiles/UserFiles/chambers/3061/File/SEASIDECINEMA8.5x11.pdf" target="_blank">Click here to download the full schedule of movies</a>
LOCATION:Summer weekly outdoor movies under the stars! Agamont Park overlooking Frenchman Bay. Agamont Park is located on the corner of West and Main Streets in Bar Harbor.
UID:e.3061.802
SEQUENCE:3
DTSTAMP:20260420T182337Z
URL:https://www.visitbarharbor.com/events/details/2018-seaside-cinema-babe-802
END:VEVENT

END:VCALENDAR
