BEGIN:VCALENDAR
VERSION:2.0
PRODID:-//ChamberMaster//Event Calendar 2.0//EN
METHOD:PUBLISH
X-PUBLISHED-TTL:P3D
REFRESH-INTERVAL:P3D
CALSCALE:GREGORIAN
BEGIN:VEVENT
DTSTART:20181014T120000Z
DTEND:20181014T190000Z
X-MICROSOFT-CDO-ALLDAYEVENT:FALSE
SUMMARY:2018 MDI Marathon\, Half & Relay
DESCRIPTION:The Mount Desert Island Marathon\, hosted by Crow Athletics\, has been voted the "Most Scenic & Runner-up Best Overall Marathon" by Runner's World\, and "Best Marathon in the Northeast" by Competitor Magazine\, and is quickly gaining world-wide attention.\n\n\n\nThe Marathon and Team Relay start on Main Street in Bar Harbor\, and head south winding between between Champlain and Dorr Mountains\, thru the village of Otter Creek\, along the shore in Seal Harbor with views of Bunker Ledge\, Bear Island\, Sutton Island and Cranberry Isles. After running thru downtown Northeast Harbor (site of the Half-Marathon start\, which follows the same route to finish in Southwest Harbor)\, the course turns north on to historic Sargeant Drive and follows the edge of breathtaking Somes Sound\, the only natural fjord on the US east coast. The race route continues north toward Somesville\, the first village on MDI settled in 1761\, where it turns west and follows the picturesque Main Street with views of Somes Harbor and the Old Mill Pond on one side\, and the famous memorial white bridge on the other. After departing the village the course turns south again and follows a final hilly 10K with views of Echo Lake\, Beech Mountain and Norwood Cove before descending down to the finish line Southwest Harbor.\n\n	Weekend festivities include:\n	\n		Health & Fitness Expo / Race Check-in\n		Pre-Race Pasta Dinner\n		Kids Fun Run\n		MDI Marathon\, Half-Marathon & Team Relay\n		Finish Line Festival\n		Post-Race Party\n	\n	\n\n\nThe MDI Marathon is USATF Sanctioned & Certified (# ME12018JK) and is qualifying race for the Boston Marathon.\n\nThe MDI Half-Marathon is also USATF Sanctioned & Certified (# ME16012JK).\n\n\n\nMore information & registration: HERE\n\nFollow us: Facebook   Twitter   Instagram
X-ALT-DESC;FMTTYPE=text/html:<span style="color:rgb(34\, 34\, 34)\; font-family:arial\,verdana\,sans-serif\; font-size:12px">The&nbsp\;</span><a href="http://runmdi.org/" style="font-family: Arial\, Verdana\, sans-serif\; font-size: 12px\;" target="_blank">Mount Desert Island Marathon</a><span style="color:rgb(34\, 34\, 34)\; font-family:arial\,verdana\,sans-serif\; font-size:12px">\, hosted by&nbsp\;</span><a href="http://crowathletics.com/" style="font-family: Arial\, Verdana\, sans-serif\; font-size: 12px\;" target="_blank">Crow Athletics</a><span style="color:rgb(34\, 34\, 34)\; font-family:arial\,verdana\,sans-serif\; font-size:12px">\, has been voted the &ldquo\;Most Scenic &amp\; Runner-up Best Overall Marathon&rdquo\; by&nbsp\;</span><a href="http://runmdi.org/s/runners_world_mdi_marathon.jpg" style="font-family: Arial\, Verdana\, sans-serif\; font-size: 12px\;" target="_blank"><em>Runner&rsquo\;s World</em></a><span style="color:rgb(34\, 34\, 34)\; font-family:arial\,verdana\,sans-serif\; font-size:12px">\, and &ldquo\;Best Marathon in the Northeast&rdquo\; by&nbsp\;</span><em><a href="http://running.competitor.com/2013/12/news/best-of-competitor-2013-northeast-region_92638" target="_blank">Competitor Magazine</a>\,</em><span style="color:rgb(34\, 34\, 34)\; font-family:arial\,verdana\,sans-serif\; font-size:12px">&nbsp\;and is quickly gaining world-wide attention.</span><br />\n<br />\n<span style="color:rgb(34\, 34\, 34)\; font-family:arial\,verdana\,sans-serif\; font-size:12px">The&nbsp\;</span><a href="http://marathon.runmdi.org/" style="font-family: Arial\, Verdana\, sans-serif\; font-size: 12px\;" target="_blank">Marathon</a><span style="color:rgb(34\, 34\, 34)\; font-family:arial\,verdana\,sans-serif\; font-size:12px">&nbsp\;and&nbsp\;</span><a href="http://relay.runmdi.org" style="font-family: Arial\, Verdana\, sans-serif\; font-size: 12px\;" target="_blank">Team Relay</a><span style="color:rgb(34\, 34\, 34)\; font-family:arial\,verdana\,sans-serif\; font-size:12px">&nbsp\;start on Main Street in Bar Harbor\, and head south winding between between Champlain and Dorr Mountains\, thru the village of Otter Creek\, along the shore in Seal Harbor with views of Bunker Ledge\, Bear Island\, Sutton Island and Cranberry Isles. After running thru downtown Northeast Harbor&nbsp\;</span><em>(site of the&nbsp\;<a href="http://half.runmdi.org" target="_blank">Half-Marathon</a>&nbsp\;start\, which follows the same route to finish in Southwest Harbor)</em><span style="color:rgb(34\, 34\, 34)\; font-family:arial\,verdana\,sans-serif\; font-size:12px">\, the course turns north on to historic Sargeant Drive and follows the edge of breathtaking Somes Sound\, the only natural fjord on the US east coast. The race route continues north toward Somesville\, the first village on MDI settled in 1761\, where it turns west and follows the picturesque Main Street with views of Somes Harbor and the Old Mill Pond on one side\, and the famous memorial white bridge on the other. After departing the village the course turns south again and follows a final hilly 10K with views of Echo Lake\, Beech Mountain and Norwood Cove before descending down to the finish line Southwest Harbor.</span>\n<ul>\n	<li><u><strong>Weekend festivities include:</strong></u>\n	<ul>\n		<li>Health &amp\; Fitness Expo / Race Check-in</li>\n		<li>Pre-Race Pasta Dinner</li>\n		<li>Kids Fun Run</li>\n		<li>MDI Marathon\, Half-Marathon &amp\; Team Relay</li>\n		<li>Finish Line Festival</li>\n		<li>Post-Race Party</li>\n	</ul>\n	</li>\n</ul>\n\n<p><em>The MDI Marathon is USATF Sanctioned &amp\; Certified (# ME12018JK) and is qualifying race for the Boston Marathon.<br />\nThe MDI Half-Marathon is also USATF Sanctioned &amp\; Certified (# ME16012JK).</em><br />\n<br />\nMore information &amp\; registration:&nbsp\;<a href="http://runmdi.org/" target="_blank">HERE</a><br />\nFollow us:&nbsp\;<a href="http://www.facebook.com/mdimarathon" target="_blank">Facebook</a>&nbsp\;&bull\;&nbsp\;<a href="http://twitter.com/mdimarathon" target="_blank">Twitter</a>&nbsp\;&bull\;&nbsp\;<a href="http://instagram.com/mdimarathon" target="_blank">Instagram</a></p>\n
LOCATION:Bar Harbor to Southwest Harbor
UID:e.3061.830
SEQUENCE:3
DTSTAMP:20260420T131801Z
URL:https://www.visitbarharbor.com/events/details/2018-mdi-marathon-half-relay-830
END:VEVENT

END:VCALENDAR
