BEGIN:VCALENDAR
VERSION:2.0
PRODID:-//ChamberMaster//Event Calendar 2.0//EN
METHOD:PUBLISH
X-PUBLISHED-TTL:P3D
REFRESH-INTERVAL:P3D
CALSCALE:GREGORIAN
BEGIN:VEVENT
DTSTART;VALUE=DATE:20180628
DTEND;VALUE=DATE:20180629
TRANSP:TRANSPARENT
X-MICROSOFT-CDO-ALLDAYEVENT:TRUE
SUMMARY:2018 Hemmings Motor News Great Race Presented by Hagerty
DESCRIPTION:Time-Speed-Endurance Rally for Vintage Cars\, 1972 & Older traveling from Buffalo\, New York to Halifax\, Nova Scotia!\n\n\n\nFull Schedule\n\nStop One: Seal Cove Auto Museum\n\n11:00 am: Shuttles begin*\n\n12:00 pm   12:15 pm: Opening ceremonies\n\n12:15 pm   3:15 pm: Vintage cars arrive throughout this period at one-minute intervals\n\n\n\nTicket Information\n\nTickets required for museum admission and shuttle.*\n\nTickets $10\, Kids 5 and Under Free\n\nBuy a combo ticket for the Great Race and the Car-B-Que later in the day and save!\n\nCar-B-Que-Great Race Combo Ticket: $25 ($30 value)\n\nDay-of tickets will be cash-only.\n\nTickets may be purchased in advance via credit card or check.\n\n*ALL PARKING WILL BE OFF-SITE.\n\nThere will be no parking\, and no drop-off area\, at the museum. Shuttles will be provided\, beginning at 11am.\n\n\n\nStop Two: Bar Harbor Town Pier\n\n4:30 pm: Welcoming remarks\n\n4:45 - 7:00 pm: Vintage cars arrive throughout this period at one-minute intervals
X-ALT-DESC;FMTTYPE=text/html:Time-Speed-Endurance Rally for Vintage Cars\, 1972 &amp\; Older traveling from Buffalo\, New York to Halifax\, Nova Scotia!<br />\n<br />\nFull Schedule<br />\n<strong><a href="https://www.sealcoveautomuseum.org/events/great-race-visit/" target="_blank">Stop One: Seal Cove Auto Museum</a></strong><br />\n11:00 am:&nbsp\;Shuttles begin*<br />\n12:00 pm &ndash\; 12:15 pm:&nbsp\;Opening ceremonies<br />\n12:15 pm &ndash\; 3:15 pm:&nbsp\;Vintage cars arrive throughout this period at one-minute intervals<br />\n<br />\nTicket Information<br />\nTickets required for museum admission and shuttle.*<br />\nTickets $10\,&nbsp\;Kids 5 and Under Free<br />\nBuy a combo ticket for the Great Race and the Car-B-Que later in the day and save!<br />\nCar-B-Que-Great Race Combo Ticket: $25 ($30 value)<br />\nDay-of tickets will be cash-only.<br />\nTickets may be purchased in advance via credit card or check.<br />\n*ALL PARKING WILL BE OFF-SITE.<br />\nThere will be no parking\, and no drop-off area\, at the museum. Shuttles will be provided\, beginning at 11am.<br />\n<br />\n<a href="https://www.facebook.com/events/149557185870521/" target="_blank"><strong>Stop Two: Bar Harbor Town Pier</strong></a><br />\n4:30 pm: Welcoming remarks<br />\n4:45 - 7:00 pm: Vintage cars arrive throughout this period at one-minute intervals
LOCATION:June 28 th the cars will drive onto Mount Desert Island\, have a lunch stop at Seal Cove Auto Museum and finish the day's rally in Bar Harbor at the Town Pier. Join us in welcoming and cheering on the 120 vintage cars!
UID:e.3061.27
SEQUENCE:3
DTSTAMP:20260420T200406Z
URL:https://www.visitbarharbor.com/events/details/2018-hemmings-motor-news-great-race-presented-by-hagerty-27
END:VEVENT

END:VCALENDAR
