BEGIN:VCALENDAR
VERSION:2.0
PRODID:-//ChamberMaster//Event Calendar 2.0//EN
METHOD:PUBLISH
X-PUBLISHED-TTL:P3D
REFRESH-INTERVAL:P3D
CALSCALE:GREGORIAN
BEGIN:VEVENT
DTSTART:20181110T110000Z
DTEND:20181110T170000Z
X-MICROSOFT-CDO-ALLDAYEVENT:FALSE
SUMMARY:2018 Early Bird Pajama Sale & Bed Races
DESCRIPTION:Roll out of bed and come early for the steals and deals at Bar Harbor's finest retail locations for the annual Early Bird Pajama Sale\, where those who shop in their pajamas receive even better discounts!\n\n\n\nIf you have a business in Bar Harbor that would like to take part in the Early Bird Pajama Sale\, Register Here . \n\n\n\nHave a team that wants to participate in the bed race?  For rules and registration\,  Click Here .
X-ALT-DESC;FMTTYPE=text/html:Roll out of bed and come early for the steals and deals at Bar Harbor&#39\;s finest retail locations for the annual Early Bird Pajama Sale\, where those who shop in their pajamas receive even better discounts!<br />\n<br />\nIf you have a business in Bar Harbor that would like to take part in the Early Bird Pajama Sale\,<u><span style="color:#0000CD\;"> </span><a href="https://chambermaster.blob.core.windows.net/userfiles/UserFiles/chambers/3061/File/2018EarlyBird-MidnightMadnessRegistrationForm.pdf"><span style="color:#0000CD\;">Register Here</span></a></u> .&nbsp\;<br />\n<br />\nHave a team that wants to participate in the bed race?&nbsp\; For rules and registration\,&nbsp\;<u><span style="color:#0000CD\;"> </span><a href="https://chambermaster.blob.core.windows.net/userfiles/UserFiles/chambers/3061/File/2018BedRaces.pdf"><span style="color:#0000CD\;">Click Here</span></a></u> .<br />\n&nbsp\;
LOCATION:Downtown Bar Harbor
UID:e.3061.3017
SEQUENCE:3
DTSTAMP:20260420T132456Z
URL:https://www.visitbarharbor.com/events/details/2018-early-bird-pajama-sale-bed-races-3017
END:VEVENT

END:VCALENDAR
