BEGIN:VCALENDAR
VERSION:2.0
PRODID:-//ChamberMaster//Event Calendar 2.0//EN
METHOD:PUBLISH
X-PUBLISHED-TTL:P3D
REFRESH-INTERVAL:P3D
CALSCALE:GREGORIAN
BEGIN:VEVENT
DTSTART:20180616T140000Z
DTEND:20180617T220000Z
X-MICROSOFT-CDO-ALLDAYEVENT:FALSE
SUMMARY:2018 Art in the Park
DESCRIPTION:Longest running fine art show in Bar Harbor!
X-ALT-DESC;FMTTYPE=text/html:Longest running fine art show in Bar Harbor!
LOCATION:Village Green\, Corner of Main Street and Mount Desert Street\, Bar Harbor
UID:e.3061.25
SEQUENCE:3
DTSTAMP:20260420T195729Z
URL:https://www.visitbarharbor.com/events/details/2018-art-in-the-park-25
END:VEVENT

END:VCALENDAR
