BEGIN:VCALENDAR
VERSION:2.0
PRODID:-//ChamberMaster//Event Calendar 2.0//EN
METHOD:PUBLISH
X-PUBLISHED-TTL:P3D
REFRESH-INTERVAL:P3D
CALSCALE:GREGORIAN
BEGIN:VEVENT
DTSTART:20180701T230000Z
DTEND:20180702T003000Z
X-MICROSOFT-CDO-ALLDAYEVENT:FALSE
SUMMARY:2 and 4 Hand Piano Concert
DESCRIPTION:Two and Four Hands Concert to benefit Mount Desert Island Search and Rescue. St. Saviour's presents Ann Sears and Guy Urban\, pianists Ms. Sears and Mr. Urban will present solo and duet works by Schubert\, Liszt\, Brahms\, Stewart\, Rachmaninoff\, and Gershwin. St. Saviour's is handicap accessible.
X-ALT-DESC;FMTTYPE=text/html:Two and Four Hands Concert to benefit Mount Desert Island Search and Rescue. St. Saviour&#39\;s presents Ann Sears and Guy Urban\, pianists Ms. Sears and Mr. Urban will present solo and duet works by Schubert\, Liszt\, Brahms\, Stewart\, Rachmaninoff\, and Gershwin. St. Saviour&rsquo\;s is handicap accessible.
LOCATION:St. Saviours Episcopal Church 41 Mt. Desert St Bar Harbor
UID:e.3061.2850
SEQUENCE:3
DTSTAMP:20260420T215918Z
URL:https://www.visitbarharbor.com/events/details/2-and-4-hand-piano-concert-2850
END:VEVENT

END:VCALENDAR
