BEGIN:VCALENDAR
VERSION:2.0
PRODID:-//ChamberMaster//Event Calendar 2.0//EN
METHOD:PUBLISH
X-PUBLISHED-TTL:P3D
REFRESH-INTERVAL:P3D
CALSCALE:GREGORIAN
BEGIN:VEVENT
DTSTART:20190815T000000Z
DTEND:20190815T020000Z
X-MICROSOFT-CDO-ALLDAYEVENT:FALSE
SUMMARY:1932 Criterion Theatre
DESCRIPTION:Satisfaction (The International Rolling Stones Show) is the international touring tribute show to the World's Greatest Rock & Roll Band. This Billboard & Pollstar listed show is now celebrating their 16th Anniversary in production with over 3000 performances listed to its credit. This highly acclaimed production showcases the most authentic cast & costuming of its kind. The likes of Mick Jagger\, Keith Richards and cast bring a colorful performance to 50 years of classic hits. Featured in Rolling Stone\, Showbiz Magazine\, Las Vegas Today\, CBS Sunday Morning news and hundreds of national newspapers\, magazines\, television & radio as the world's greatest show honoring the Rolling Stones and their legacy. Rolling Stone magazine: "One of the best tribute shows in the world"
X-ALT-DESC;FMTTYPE=text/html:Satisfaction (The International Rolling Stones Show) is the international touring tribute show to the World&#39\;s Greatest Rock &amp\; Roll Band. This Billboard &amp\; Pollstar listed show is now celebrating their 16th Anniversary in production with over 3000 performances listed to its credit. This highly acclaimed production showcases the most authentic cast &amp\; costuming of its kind. The likes of Mick Jagger\, Keith Richards and cast bring a colorful performance to 50 years of classic hits. Featured in Rolling Stone\, Showbiz Magazine\, Las Vegas Today\, CBS Sunday Morning news and hundreds of national newspapers\, magazines\, television &amp\; radio as the world&rsquo\;s greatest show honoring the Rolling Stones and their legacy. Rolling Stone magazine: &quot\;One of the best tribute shows in the world&quot\;
LOCATION:1932 Criterion Theatre 35 Cottage Street Bar Harbor ME 04609
UID:e.3061.14246
SEQUENCE:3
DTSTAMP:20260419T192004Z
URL:https://www.visitbarharbor.com/events/details/1932-criterion-theatre-14246
END:VEVENT

END:VCALENDAR
