BEGIN:VCALENDAR
VERSION:2.0
PRODID:-//ChamberMaster//Event Calendar 2.0//EN
METHOD:PUBLISH
X-PUBLISHED-TTL:P3D
REFRESH-INTERVAL:P3D
CALSCALE:GREGORIAN
BEGIN:VEVENT
DTSTART:20180715T200000Z
DTEND:20180715T220000Z
X-MICROSOFT-CDO-ALLDAYEVENT:FALSE
SUMMARY:12th Annual Seabird Cruise to Petit Manan Island
DESCRIPTION:Join us for a fun evening of seabird viewing with the fine company of our Wildlife Refuge Biologists!\n\nComplimentary beer\, wine and light refreshments will be available. There will be a small auction on the return trip featuring an original painting by Maine Artist Eric Hopkins\, as well as other great items!
X-ALT-DESC;FMTTYPE=text/html:Join us for a fun evening of seabird viewing with the fine company of our Wildlife Refuge Biologists!<br />\nComplimentary beer\, wine and light refreshments will be available. There will be a small auction on the return trip featuring an original painting by Maine Artist Eric Hopkins\, as well as other great items!
LOCATION:1 West Street Bar Harbor\, ME 04609
UID:e.3061.3303
SEQUENCE:3
DTSTAMP:20260420T183146Z
URL:https://www.visitbarharbor.com/events/details/12th-annual-seabird-cruise-to-petit-manan-island-3303
END:VEVENT

END:VCALENDAR
