BEGIN:VCALENDAR
VERSION:2.0
PRODID:-//ChamberMaster//Event Calendar 2.0//EN
METHOD:PUBLISH
X-PUBLISHED-TTL:P3D
REFRESH-INTERVAL:P3D
CALSCALE:GREGORIAN
BEGIN:VEVENT
DTSTART:20181208T150000Z
DTEND:20181208T210000Z
X-MICROSOFT-CDO-ALLDAYEVENT:FALSE
SUMMARY:1-Day Cardinal Ornament Carving Workshop
DESCRIPTION:Looking for something to do indoors on an early winter Saturday? Come carve a cardinal in a one day class\, Dec 1 or 8\, 10am to 4pm at the Gilley. This celebratory bird is just the right one for this time of year! All levels of experience welcome\, limited space\, advance registration required. Please contact us at 244 7555 or info@wendellgilleymuseum.org. We're excited to see you!
X-ALT-DESC;FMTTYPE=text/html:Looking for something to do indoors on an early winter Saturday? Come carve a cardinal in a one day class\, Dec 1 or 8\, 10am to 4pm at the Gilley. This celebratory bird is just the right one for this time of year! All levels of experience welcome\, limited space\, advance registration required. Please contact us at 244 7555 or info@wendellgilleymuseum.org. We&#39\;re excited to see you!
LOCATION:Wendell Gilley Museum 4 Herrick Rd Southwest Harbor 04679
UID:e.3061.4281
SEQUENCE:3
DTSTAMP:20260420T100016Z
URL:https://www.visitbarharbor.com/events/details/1-day-cardinal-ornament-carving-workshop-4281
END:VEVENT

END:VCALENDAR
